BEGIN:VCALENDAR
VERSION:2.0
CALSCALE:GREGORIAN
PRODID:UnionActive
BEGIN:VEVENT
UID:12368325@teamsterslocal776.org
SUMMARY:Monthly Membership Meeting
DESCRIPTION:Contact:  \nLink for more information: http://teamsterslocal776.org/index.cfm?zone=/unionactive/view_calendar.cfm&calendarID=12368325&thisdate=04/02/2023&useCalSection=main
LOCATION:Harrisburg Union Hall
URL:http://teamsterslocal776.org/index.cfm?zone=/unionactive/view_calendar.cfm&calendarID=12368325&thisdate=04/02/2023&useCalSection=main
DTSTART:20230402T140000Z
DTEND:20230402T160000Z
DTSTAMP:20260419T141209
TRIGGER:-PT60M
END:VEVENT
END:VCALENDAR
