BEGIN:VCALENDAR
VERSION:2.0
CALSCALE:GREGORIAN
PRODID:UnionActive
BEGIN:VEVENT
UID:12368324@teamsterslocal776.org
SUMMARY:Monthly Membership Meeting
DESCRIPTION:Contact:  \nLink for more information: http://teamsterslocal776.org/index.cfm?zone=/unionactive/view_calendar.cfm&calendarID=12368324&thisdate=03/12/2023&useCalSection=main
LOCATION:Harrisburg Union Hall
URL:http://teamsterslocal776.org/index.cfm?zone=/unionactive/view_calendar.cfm&calendarID=12368324&thisdate=03/12/2023&useCalSection=main
DTSTART:20230312T140000Z
DTEND:20230312T160000Z
DTSTAMP:20260419T091821
TRIGGER:-PT60M
END:VEVENT
END:VCALENDAR
