BEGIN:VCALENDAR
VERSION:2.0
CALSCALE:GREGORIAN
PRODID:UnionActive
BEGIN:VEVENT
UID:12070287@teamsterslocal776.org
SUMMARY:Central PA Joint Area Grievance committee
DESCRIPTION:Contact:  \nLink for more information: http://teamsterslocal776.org/index.cfm?zone=/unionactive/view_calendar.cfm&calendarID=12070287&thisdate=03/02/2022&useCalSection=main
LOCATION:
URL:http://teamsterslocal776.org/index.cfm?zone=/unionactive/view_calendar.cfm&calendarID=12070287&thisdate=03/02/2022&useCalSection=main
DTSTART:20220302T140000Z
DTEND:20220302T220000Z
DTSTAMP:20260419T140704
TRIGGER:-PT60M
END:VEVENT
END:VCALENDAR
