BEGIN:VCALENDAR
VERSION:2.0
CALSCALE:GREGORIAN
PRODID:UnionActive
BEGIN:VEVENT
UID:12031192@teamsterslocal776.org
SUMMARY:TForce National Grievance Committee Panel
DESCRIPTION:Contact:  \nLink for more information: http://teamsterslocal776.org/index.cfm?zone=/unionactive/view_calendar.cfm&calendarID=12031192&thisdate=03/07/2022&useCalSection=main
LOCATION:
URL:http://teamsterslocal776.org/index.cfm?zone=/unionactive/view_calendar.cfm&calendarID=12031192&thisdate=03/07/2022&useCalSection=main
DTSTART:20220307T140000Z
DTEND:20220311T220000Z
DTSTAMP:20260419T141330
TRIGGER:-PT60M
END:VEVENT
END:VCALENDAR
