BEGIN:VCALENDAR
VERSION:2.0
CALSCALE:GREGORIAN
PRODID:UnionActive
BEGIN:VEVENT
UID:12024530@teamsterslocal776.org
SUMMARY:Annual Golf Outing
DESCRIPTION:Contact:  \nLink for more information: http://teamsterslocal776.org/index.cfm?zone=/unionactive/view_calendar.cfm&calendarID=12024530&thisdate=08/07/2022&useCalSection=main
LOCATION:
URL:http://teamsterslocal776.org/index.cfm?zone=/unionactive/view_calendar.cfm&calendarID=12024530&thisdate=08/07/2022&useCalSection=main
DTSTART:20220807T110000Z
DTEND:20220807T110000Z
DTSTAMP:20260419T153545
TRIGGER:-PT60M
END:VEVENT
END:VCALENDAR
