BEGIN:VCALENDAR
VERSION:2.0
CALSCALE:GREGORIAN
PRODID:UnionActive
BEGIN:VEVENT
UID:12024528@teamsterslocal776.org
SUMMARY:Monthly Membership Meeting
DESCRIPTION:Contact:  \nLink for more information: http://teamsterslocal776.org/index.cfm?zone=/unionactive/view_calendar.cfm&calendarID=12024528&thisdate=12/11/2022&useCalSection=main
LOCATION:
URL:http://teamsterslocal776.org/index.cfm?zone=/unionactive/view_calendar.cfm&calendarID=12024528&thisdate=12/11/2022&useCalSection=main
DTSTART:20221211T150000Z
DTEND:20221211T150000Z
DTSTAMP:20260419T062528
TRIGGER:-PT60M
END:VEVENT
END:VCALENDAR
