BEGIN:VCALENDAR
VERSION:2.0
CALSCALE:GREGORIAN
PRODID:UnionActive
BEGIN:VEVENT
UID:12024526@teamsterslocal776.org
SUMMARY:CPR Training
DESCRIPTION:Contact:  \nLink for more information: http://teamsterslocal776.org/index.cfm?zone=/unionactive/view_calendar.cfm&calendarID=12024526&thisdate=11/12/2022&useCalSection=main
LOCATION:Harrisburg Union Hall
URL:http://teamsterslocal776.org/index.cfm?zone=/unionactive/view_calendar.cfm&calendarID=12024526&thisdate=11/12/2022&useCalSection=main
DTSTART:20221112T150000Z
DTEND:20221112T150000Z
DTSTAMP:20260419T123641
TRIGGER:-PT60M
END:VEVENT
END:VCALENDAR
