BEGIN:VCALENDAR
VERSION:2.0
CALSCALE:GREGORIAN
PRODID:UnionActive
BEGIN:VEVENT
UID:12024523@teamsterslocal776.org
SUMMARY:Stewards Meeting
DESCRIPTION:Contact:  \nLink for more information: http://teamsterslocal776.org/index.cfm?zone=/unionactive/view_calendar.cfm&calendarID=12024523&thisdate=09/10/2022&useCalSection=main
LOCATION:Harrisburg Union Hall
URL:http://teamsterslocal776.org/index.cfm?zone=/unionactive/view_calendar.cfm&calendarID=12024523&thisdate=09/10/2022&useCalSection=main
DTSTART:20220910T140000Z
DTEND:20220910T140000Z
DTSTAMP:20260419T141040
TRIGGER:-PT60M
END:VEVENT
END:VCALENDAR
