BEGIN:VCALENDAR
VERSION:2.0
CALSCALE:GREGORIAN
PRODID:UnionActive
BEGIN:VEVENT
UID:12024519@teamsterslocal776.org
SUMMARY:Monthly Membership Meeting
DESCRIPTION:Contact:  \nLink for more information: http://teamsterslocal776.org/index.cfm?zone=/unionactive/view_calendar.cfm&calendarID=12024519&thisdate=04/10/2022&useCalSection=main
LOCATION:York Union Hall
URL:http://teamsterslocal776.org/index.cfm?zone=/unionactive/view_calendar.cfm&calendarID=12024519&thisdate=04/10/2022&useCalSection=main
DTSTART:20220410T140000Z
DTEND:20220410T140000Z
DTSTAMP:20260419T123539
TRIGGER:-PT60M
END:VEVENT
END:VCALENDAR
