BEGIN:VCALENDAR
VERSION:2.0
CALSCALE:GREGORIAN
PRODID:UnionActive
BEGIN:VEVENT
UID:12024514@teamsterslocal776.org
SUMMARY:Eastern Region Joint Area Committee Meeting
DESCRIPTION:Contact:  \nLink for more information: http://teamsterslocal776.org/index.cfm?zone=/unionactive/view_calendar.cfm&calendarID=12024514&thisdate=07/18/2022&useCalSection=main
LOCATION:
URL:http://teamsterslocal776.org/index.cfm?zone=/unionactive/view_calendar.cfm&calendarID=12024514&thisdate=07/18/2022&useCalSection=main
DTSTART:20220718T130000Z
DTEND:20220720T210000Z
DTSTAMP:20260419T170348
TRIGGER:-PT60M
END:VEVENT
END:VCALENDAR
