BEGIN:VCALENDAR
VERSION:2.0
CALSCALE:GREGORIAN
PRODID:UnionActive
BEGIN:VEVENT
UID:12015372@teamsterslocal776.org
SUMMARY:Central PA Joint Area Grievance committee
DESCRIPTION:Contact:  \nLink for more information: http://teamsterslocal776.org/index.cfm?zone=/unionactive/view_calendar.cfm&calendarID=12015372&thisdate=11/02/2022&useCalSection=main
LOCATION:
URL:http://teamsterslocal776.org/index.cfm?zone=/unionactive/view_calendar.cfm&calendarID=12015372&thisdate=11/02/2022&useCalSection=main
DTSTART:20221102T130000Z
DTEND:20221102T210000Z
DTSTAMP:20260419T062247
TRIGGER:-PT60M
END:VEVENT
END:VCALENDAR
