BEGIN:VCALENDAR
VERSION:2.0
CALSCALE:GREGORIAN
PRODID:UnionActive
BEGIN:VEVENT
UID:12012229@teamsterslocal776.org
SUMMARY:Stewards Meeting
DESCRIPTION:Contact:  \nLink for more information: http://teamsterslocal776.org/index.cfm?zone=/unionactive/view_calendar.cfm&calendarID=12012229&thisdate=01/08/2022&useCalSection=main
LOCATION:Harrisburg Union Hall
URL:http://teamsterslocal776.org/index.cfm?zone=/unionactive/view_calendar.cfm&calendarID=12012229&thisdate=01/08/2022&useCalSection=main
DTSTART:20220108T150000Z
DTEND:20220108T150000Z
DTSTAMP:20260419T091810
TRIGGER:-PT60M
END:VEVENT
END:VCALENDAR
