BEGIN:VCALENDAR
VERSION:2.0
CALSCALE:GREGORIAN
PRODID:UnionActive
BEGIN:VEVENT
UID:12004076@teamsterslocal776.org
SUMMARY:UPS CPAPGC grievance panel
DESCRIPTION:Contact:  \nLink for more information: http://teamsterslocal776.org/index.cfm?zone=/unionactive/view_calendar.cfm&calendarID=12004076&thisdate=01/27/2022&useCalSection=main
LOCATION:
URL:http://teamsterslocal776.org/index.cfm?zone=/unionactive/view_calendar.cfm&calendarID=12004076&thisdate=01/27/2022&useCalSection=main
DTSTART:20220127T140000Z
DTEND:20220127T220000Z
DTSTAMP:20260419T062311
TRIGGER:-PT60M
END:VEVENT
END:VCALENDAR
