BEGIN:VCALENDAR
VERSION:2.0
CALSCALE:GREGORIAN
PRODID:UnionActive
BEGIN:VEVENT
UID:11595953@teamsterslocal776.org
SUMMARY:UPS CPAPGC Grievance Panel
DESCRIPTION:Contact:  \nLink for more information: http://teamsterslocal776.org/index.cfm?zone=/unionactive/view_calendar.cfm&calendarID=11595953&thisdate=07/08/2021&useCalSection=main
LOCATION:
URL:http://teamsterslocal776.org/index.cfm?zone=/unionactive/view_calendar.cfm&calendarID=11595953&thisdate=07/08/2021&useCalSection=main
DTSTART:20210708T130000Z
DTEND:20210708T210000Z
DTSTAMP:20260419T153727
TRIGGER:-PT60M
END:VEVENT
END:VCALENDAR
