BEGIN:VCALENDAR
VERSION:2.0
CALSCALE:GREGORIAN
PRODID:UnionActive
BEGIN:VEVENT
UID:11595944@teamsterslocal776.org
SUMMARY:Eastern Region Joint Area Committee Meeting
DESCRIPTION:Contact:  \nLink for more information: http://teamsterslocal776.org/index.cfm?zone=/unionactive/view_calendar.cfm&calendarID=11595944&thisdate=10/25/2021&useCalSection=main
LOCATION:
URL:http://teamsterslocal776.org/index.cfm?zone=/unionactive/view_calendar.cfm&calendarID=11595944&thisdate=10/25/2021&useCalSection=main
DTSTART:20211025T130000Z
DTEND:20211027T210000Z
DTSTAMP:20260419T170614
TRIGGER:-PT60M
END:VEVENT
END:VCALENDAR
