BEGIN:VCALENDAR
VERSION:2.0
CALSCALE:GREGORIAN
PRODID:UnionActive
BEGIN:VEVENT
UID:11595942@teamsterslocal776.org
SUMMARY:Eastern Region Joint Area Committee Meeting
DESCRIPTION:Contact:  \nLink for more information: http://teamsterslocal776.org/index.cfm?zone=/unionactive/view_calendar.cfm&calendarID=11595942&thisdate=04/19/2021&useCalSection=main
LOCATION:
URL:http://teamsterslocal776.org/index.cfm?zone=/unionactive/view_calendar.cfm&calendarID=11595942&thisdate=04/19/2021&useCalSection=main
DTSTART:20210419T130000Z
DTEND:20210421T210000Z
DTSTAMP:20260419T141511
TRIGGER:-PT60M
END:VEVENT
END:VCALENDAR
