BEGIN:VCALENDAR
VERSION:2.0
CALSCALE:GREGORIAN
PRODID:UnionActive
BEGIN:VEVENT
UID:11595311@teamsterslocal776.org
SUMMARY:Local 776 Children's Christmas Party
DESCRIPTION:Contact:  \nLink for more information: http://teamsterslocal776.org/index.cfm?zone=/unionactive/view_calendar.cfm&calendarID=11595311&thisdate=12/11/2021&useCalSection=main
LOCATION:Harrisburg Union Hall
URL:http://teamsterslocal776.org/index.cfm?zone=/unionactive/view_calendar.cfm&calendarID=11595311&thisdate=12/11/2021&useCalSection=main
DTSTART:20211211T160000Z
DTEND:20211211T200000Z
DTSTAMP:20260419T170553
TRIGGER:-PT60M
END:VEVENT
END:VCALENDAR
