BEGIN:VCALENDAR
VERSION:2.0
CALSCALE:GREGORIAN
PRODID:UnionActive
BEGIN:VEVENT
UID:11595297@teamsterslocal776.org
SUMMARY:Monthly Membership Meeting
DESCRIPTION:Contact:  \nLink for more information: http://teamsterslocal776.org/index.cfm?zone=/unionactive/view_calendar.cfm&calendarID=11595297&thisdate=10/10/2021&useCalSection=main
LOCATION:Harrisburg Union Hall
URL:http://teamsterslocal776.org/index.cfm?zone=/unionactive/view_calendar.cfm&calendarID=11595297&thisdate=10/10/2021&useCalSection=main
DTSTART:20211010T140000Z
DTEND:20211010T160000Z
DTSTAMP:20260419T091841
TRIGGER:-PT60M
END:VEVENT
END:VCALENDAR
