BEGIN:VCALENDAR
VERSION:2.0
CALSCALE:GREGORIAN
PRODID:UnionActive
BEGIN:VEVENT
UID:11582075@teamsterslocal776.org
SUMMARY:Monthly Membership Meeting
DESCRIPTION:Contact:  \nLink for more information: http://teamsterslocal776.org/index.cfm?zone=/unionactive/view_calendar.cfm&calendarID=11582075&thisdate=01/10/2021&useCalSection=main
LOCATION:Harrisburg Union Hall
URL:http://teamsterslocal776.org/index.cfm?zone=/unionactive/view_calendar.cfm&calendarID=11582075&thisdate=01/10/2021&useCalSection=main
DTSTART:20210110T150000Z
DTEND:20210110T170000Z
DTSTAMP:20260419T184225
TRIGGER:-PT60M
END:VEVENT
END:VCALENDAR
