BEGIN:VCALENDAR
VERSION:2.0
CALSCALE:GREGORIAN
PRODID:UnionActive
BEGIN:VEVENT
UID:11285134@teamsterslocal776.org
SUMMARY:Children's Christmas Party
DESCRIPTION:Contact:  \nLink for more information: http://teamsterslocal776.org/index.cfm?zone=/unionactive/view_calendar.cfm&calendarID=11285134&thisdate=12/12/2020&useCalSection=main
LOCATION:Harrisburg Union Hall
URL:http://teamsterslocal776.org/index.cfm?zone=/unionactive/view_calendar.cfm&calendarID=11285134&thisdate=12/12/2020&useCalSection=main
DTSTART:20201212T150000Z
DTEND:20201212T190000Z
DTSTAMP:20260419T140140
TRIGGER:-PT60M
END:VEVENT
END:VCALENDAR
