BEGIN:VCALENDAR
VERSION:2.0
CALSCALE:GREGORIAN
PRODID:UnionActive
BEGIN:VEVENT
UID:11285131@teamsterslocal776.org
SUMMARY:D.R.I.V.E. Dinner-Dance
DESCRIPTION:Contact:  \nLink for more information: http://teamsterslocal776.org/index.cfm?zone=/unionactive/view_calendar.cfm&calendarID=11285131&thisdate=03/28/2020&useCalSection=main
LOCATION:
URL:http://teamsterslocal776.org/index.cfm?zone=/unionactive/view_calendar.cfm&calendarID=11285131&thisdate=03/28/2020&useCalSection=main
DTSTART:20200328T220000Z
DTEND:20200328T220000Z
DTSTAMP:20260419T151933
TRIGGER:-PT60M
END:VEVENT
END:VCALENDAR
