BEGIN:VCALENDAR
VERSION:2.0
CALSCALE:GREGORIAN
PRODID:UnionActive
BEGIN:VEVENT
UID:11285129@teamsterslocal776.org
SUMMARY:Monthly Membership Meeting
DESCRIPTION:Contact:  \nLink for more information: http://teamsterslocal776.org/index.cfm?zone=/unionactive/view_calendar.cfm&calendarID=11285129&thisdate=11/08/2020&useCalSection=main
LOCATION:Harrisburg Union Hall
URL:http://teamsterslocal776.org/index.cfm?zone=/unionactive/view_calendar.cfm&calendarID=11285129&thisdate=11/08/2020&useCalSection=main
DTSTART:20201108T150000Z
DTEND:20201108T150000Z
DTSTAMP:20260419T152248
TRIGGER:-PT60M
END:VEVENT
END:VCALENDAR
