BEGIN:VCALENDAR
VERSION:2.0
CALSCALE:GREGORIAN
PRODID:UnionActive
BEGIN:VEVENT
UID:11285125@teamsterslocal776.org
SUMMARY:Stewards Meeting
DESCRIPTION:Contact:  \nLink for more information: http://teamsterslocal776.org/index.cfm?zone=/unionactive/view_calendar.cfm&calendarID=11285125&thisdate=09/12/2020&useCalSection=main
LOCATION:Harrisburg Union Hall
URL:http://teamsterslocal776.org/index.cfm?zone=/unionactive/view_calendar.cfm&calendarID=11285125&thisdate=09/12/2020&useCalSection=main
DTSTART:20200912T140000Z
DTEND:20200912T140000Z
DTSTAMP:20260419T140443
TRIGGER:-PT60M
END:VEVENT
END:VCALENDAR
