BEGIN:VCALENDAR
VERSION:2.0
CALSCALE:GREGORIAN
PRODID:UnionActive
BEGIN:VEVENT
UID:11285118@teamsterslocal776.org
SUMMARY:UPS CPAPGC Panel
DESCRIPTION:Contact:  \nLink for more information: http://teamsterslocal776.org/index.cfm?zone=/unionactive/view_calendar.cfm&calendarID=11285118&thisdate=10/01/2020&useCalSection=main
LOCATION:
URL:http://teamsterslocal776.org/index.cfm?zone=/unionactive/view_calendar.cfm&calendarID=11285118&thisdate=10/01/2020&useCalSection=main
DTSTART:20201001T130000Z
DTEND:20201001T130000Z
DTSTAMP:20260419T074726
TRIGGER:-PT60M
END:VEVENT
END:VCALENDAR
