BEGIN:VCALENDAR
VERSION:2.0
CALSCALE:GREGORIAN
PRODID:UnionActive
BEGIN:VEVENT
UID:11285111@teamsterslocal776.org
SUMMARY:UPS CPAPGC Panel
DESCRIPTION:Contact:  \nLink for more information: http://teamsterslocal776.org/index.cfm?zone=/unionactive/view_calendar.cfm&calendarID=11285111&thisdate=03/05/2020&useCalSection=main
LOCATION:
URL:http://teamsterslocal776.org/index.cfm?zone=/unionactive/view_calendar.cfm&calendarID=11285111&thisdate=03/05/2020&useCalSection=main
DTSTART:20200305T140000Z
DTEND:20200305T140000Z
DTSTAMP:20260419T135900
TRIGGER:-PT60M
END:VEVENT
END:VCALENDAR
