BEGIN:VCALENDAR
VERSION:2.0
CALSCALE:GREGORIAN
PRODID:UnionActive
BEGIN:VEVENT
UID:11284962@teamsterslocal776.org
SUMMARY:Eastern Region Joint Area Committee
DESCRIPTION:Contact:  \nLink for more information: http://teamsterslocal776.org/index.cfm?zone=/unionactive/view_calendar.cfm&calendarID=11284962&thisdate=01/20/2020&useCalSection=main
LOCATION:
URL:http://teamsterslocal776.org/index.cfm?zone=/unionactive/view_calendar.cfm&calendarID=11284962&thisdate=01/20/2020&useCalSection=main
DTSTART:20200120T140000Z
DTEND:20200122T140000Z
DTSTAMP:20260419T062608
TRIGGER:-PT60M
END:VEVENT
END:VCALENDAR
