BEGIN:VCALENDAR
VERSION:2.0
CALSCALE:GREGORIAN
PRODID:UnionActive
BEGIN:VEVENT
UID:11278423@teamsterslocal776.org
SUMMARY:UPS Freight Eastern Region Grievance Committee
DESCRIPTION:Contact:  \nLink for more information: http://teamsterslocal776.org/index.cfm?zone=/unionactive/view_calendar.cfm&calendarID=11278423&thisdate=12/08/2020&useCalSection=main
LOCATION:
URL:http://teamsterslocal776.org/index.cfm?zone=/unionactive/view_calendar.cfm&calendarID=11278423&thisdate=12/08/2020&useCalSection=main
DTSTART:20201208T140000Z
DTEND:20201210T140000Z
DTSTAMP:20260419T153940
TRIGGER:-PT60M
END:VEVENT
END:VCALENDAR
