BEGIN:VCALENDAR
VERSION:2.0
CALSCALE:GREGORIAN
PRODID:UnionActive
BEGIN:VEVENT
UID:11278414@teamsterslocal776.org
SUMMARY:Central PA Joint Area Committee
DESCRIPTION:Contact:  \nLink for more information: http://teamsterslocal776.org/index.cfm?zone=/unionactive/view_calendar.cfm&calendarID=11278414&thisdate=09/02/2020&useCalSection=main
LOCATION:
URL:http://teamsterslocal776.org/index.cfm?zone=/unionactive/view_calendar.cfm&calendarID=11278414&thisdate=09/02/2020&useCalSection=main
DTSTART:20200902T130000Z
DTEND:20200902T130000Z
DTSTAMP:20260419T123213
TRIGGER:-PT60M
END:VEVENT
END:VCALENDAR
