BEGIN:VCALENDAR
VERSION:2.0
CALSCALE:GREGORIAN
PRODID:UnionActive
BEGIN:VEVENT
UID:10655230@teamsterslocal776.org
SUMMARY:UPS/UPSF National Grievance Committee Meeting
DESCRIPTION:Contact:  \nLink for more information: http://teamsterslocal776.org/index.cfm?zone=/unionactive/view_calendar.cfm&calendarID=10655230&thisdate=03/04/2019&useCalSection=main
LOCATION:
URL:http://teamsterslocal776.org/index.cfm?zone=/unionactive/view_calendar.cfm&calendarID=10655230&thisdate=03/04/2019&useCalSection=main
DTSTART:20190304T130000Z
DTEND:20190307T130000Z
DTSTAMP:20260419T062433
TRIGGER:-PT60M
END:VEVENT
END:VCALENDAR
