BEGIN:VCALENDAR
VERSION:2.0
CALSCALE:GREGORIAN
PRODID:UnionActive
BEGIN:VEVENT
UID:10655228@teamsterslocal776.org
SUMMARY:Eastern Region Joint Area Committee Meeting
DESCRIPTION:Contact:  \nLink for more information: http://teamsterslocal776.org/index.cfm?zone=/unionactive/view_calendar.cfm&calendarID=10655228&thisdate=07/22/2019&useCalSection=main
LOCATION:
URL:http://teamsterslocal776.org/index.cfm?zone=/unionactive/view_calendar.cfm&calendarID=10655228&thisdate=07/22/2019&useCalSection=main
DTSTART:20190722T120000Z
DTEND:20190724T120000Z
DTSTAMP:20260419T123145
TRIGGER:-PT60M
END:VEVENT
END:VCALENDAR
