BEGIN:VCALENDAR
VERSION:2.0
CALSCALE:GREGORIAN
PRODID:UnionActive
BEGIN:VEVENT
UID:10655226@teamsterslocal776.org
SUMMARY:Eastern Region Joint Area Committee Meeting
DESCRIPTION:Contact:  \nLink for more information: http://teamsterslocal776.org/index.cfm?zone=/unionactive/view_calendar.cfm&calendarID=10655226&thisdate=01/21/2019&useCalSection=main
LOCATION:
URL:http://teamsterslocal776.org/index.cfm?zone=/unionactive/view_calendar.cfm&calendarID=10655226&thisdate=01/21/2019&useCalSection=main
DTSTART:20190121T130000Z
DTEND:20190123T130000Z
DTSTAMP:20260419T140828
TRIGGER:-PT60M
END:VEVENT
END:VCALENDAR
