BEGIN:VCALENDAR
VERSION:2.0
CALSCALE:GREGORIAN
PRODID:UnionActive
BEGIN:VEVENT
UID:10655222@teamsterslocal776.org
SUMMARY:D.R.I.V.E. Dinner/Dance
DESCRIPTION:Contact:  \nLink for more information: http://teamsterslocal776.org/index.cfm?zone=/unionactive/view_calendar.cfm&calendarID=10655222&thisdate=04/06/2019&useCalSection=main
LOCATION:To be announced
URL:http://teamsterslocal776.org/index.cfm?zone=/unionactive/view_calendar.cfm&calendarID=10655222&thisdate=04/06/2019&useCalSection=main
DTSTART:20190406T220000Z
DTEND:20190406T220000Z
DTSTAMP:20260419T105315
TRIGGER:-PT60M
END:VEVENT
END:VCALENDAR
