BEGIN:VCALENDAR
VERSION:2.0
CALSCALE:GREGORIAN
PRODID:UnionActive
BEGIN:VEVENT
UID:10655205@teamsterslocal776.org
SUMMARY:Central PA Joint Area Committee Meeting
DESCRIPTION:Contact:  \nLink for more information: http://teamsterslocal776.org/index.cfm?zone=/unionactive/view_calendar.cfm&calendarID=10655205&thisdate=07/03/2019&useCalSection=main
LOCATION:
URL:http://teamsterslocal776.org/index.cfm?zone=/unionactive/view_calendar.cfm&calendarID=10655205&thisdate=07/03/2019&useCalSection=main
DTSTART:20190703T120000Z
DTEND:20190703T130000Z
DTSTAMP:20260419T123252
TRIGGER:-PT60M
END:VEVENT
END:VCALENDAR
