BEGIN:VCALENDAR
VERSION:2.0
CALSCALE:GREGORIAN
PRODID:UnionActive
BEGIN:VEVENT
UID:10655203@teamsterslocal776.org
SUMMARY:Central PA Joint Area Committee Meeting
DESCRIPTION:Contact:  \nLink for more information: http://teamsterslocal776.org/index.cfm?zone=/unionactive/view_calendar.cfm&calendarID=10655203&thisdate=02/27/2019&useCalSection=main
LOCATION:
URL:http://teamsterslocal776.org/index.cfm?zone=/unionactive/view_calendar.cfm&calendarID=10655203&thisdate=02/27/2019&useCalSection=main
DTSTART:20190227T150000Z
DTEND:20190227T220000Z
DTSTAMP:20260419T153132
TRIGGER:-PT60M
END:VEVENT
END:VCALENDAR
