BEGIN:VCALENDAR
VERSION:2.0
CALSCALE:GREGORIAN
PRODID:UnionActive
BEGIN:VEVENT
UID:10090474@teamsterslocal776.org
SUMMARY:Children's Christmas Party
DESCRIPTION:Contact:  \nLink for more information: http://teamsterslocal776.org/index.cfm?zone=/unionactive/view_calendar.cfm&calendarID=10090474&thisdate=12/08/2018&useCalSection=main
LOCATION:Harrisburg Union Hall
URL:http://teamsterslocal776.org/index.cfm?zone=/unionactive/view_calendar.cfm&calendarID=10090474&thisdate=12/08/2018&useCalSection=main
DTSTART:20181208T130000Z
DTEND:20181208T140000Z
DTSTAMP:20260419T140627
TRIGGER:-PT60M
END:VEVENT
END:VCALENDAR
