BEGIN:VCALENDAR
VERSION:2.0
CALSCALE:GREGORIAN
PRODID:UnionActive
BEGIN:VEVENT
UID:10090472@teamsterslocal776.org
SUMMARY:Memebrship Picnic
DESCRIPTION:Contact:  \nLink for more information: http://teamsterslocal776.org/index.cfm?zone=/unionactive/view_calendar.cfm&calendarID=10090472&thisdate=06/10/2018&useCalSection=main
LOCATION:
URL:http://teamsterslocal776.org/index.cfm?zone=/unionactive/view_calendar.cfm&calendarID=10090472&thisdate=06/10/2018&useCalSection=main
DTSTART:20180610T120000Z
DTEND:20180610T130000Z
DTSTAMP:20260419T140104
TRIGGER:-PT60M
END:VEVENT
END:VCALENDAR
