BEGIN:VCALENDAR
VERSION:2.0
CALSCALE:GREGORIAN
PRODID:UnionActive
BEGIN:VEVENT
UID:10090471@teamsterslocal776.org
SUMMARY:DRIVE Dinner-Dance
DESCRIPTION:Contact:  \nLink for more information: http://teamsterslocal776.org/index.cfm?zone=/unionactive/view_calendar.cfm&calendarID=10090471&thisdate=03/24/2018&useCalSection=main
LOCATION:
URL:http://teamsterslocal776.org/index.cfm?zone=/unionactive/view_calendar.cfm&calendarID=10090471&thisdate=03/24/2018&useCalSection=main
DTSTART:20180324T120000Z
DTEND:20180324T130000Z
DTSTAMP:20260419T105027
TRIGGER:-PT60M
END:VEVENT
END:VCALENDAR
