BEGIN:VCALENDAR
VERSION:2.0
CALSCALE:GREGORIAN
PRODID:UnionActive
BEGIN:VEVENT
UID:10090469@teamsterslocal776.org
SUMMARY:Monthly Membership Meeting
DESCRIPTION:Contact:  \nLink for more information: http://teamsterslocal776.org/index.cfm?zone=/unionactive/view_calendar.cfm&calendarID=10090469&thisdate=12/09/2018&useCalSection=main
LOCATION:Harrisburg Union Hall
URL:http://teamsterslocal776.org/index.cfm?zone=/unionactive/view_calendar.cfm&calendarID=10090469&thisdate=12/09/2018&useCalSection=main
DTSTART:20181209T150000Z
DTEND:20181209T160000Z
DTSTAMP:20260419T105325
TRIGGER:-PT60M
END:VEVENT
END:VCALENDAR
